BEGIN:VCALENDAR
VERSION:2.0
PRODID:-//Voice of Hope SDA Church - Oklahoma City, OK - ECPv6.15.1.1//NONSGML v1.0//EN
CALSCALE:GREGORIAN
METHOD:PUBLISH
X-WR-CALNAME:Voice of Hope SDA Church - Oklahoma City, OK
X-ORIGINAL-URL:https://voiceofhopeokc.org
X-WR-CALDESC:Events for Voice of Hope SDA Church - Oklahoma City, OK
REFRESH-INTERVAL;VALUE=DURATION:PT1H
X-Robots-Tag:noindex
X-PUBLISHED-TTL:PT1H
BEGIN:VTIMEZONE
TZID:UTC
BEGIN:STANDARD
TZOFFSETFROM:+0000
TZOFFSETTO:+0000
TZNAME:UTC
DTSTART:20230101T000000
END:STANDARD
END:VTIMEZONE
BEGIN:VEVENT
DTSTART;VALUE=DATE:20230818
DTEND;VALUE=DATE:20230820
DTSTAMP:20260425T104719
CREATED:20230610T013128Z
LAST-MODIFIED:20230610T013204Z
UID:9358-1692316800-1692489599@voiceofhopeokc.org
SUMMARY:Set Free Praise Dance Conference
DESCRIPTION:
URL:https://voiceofhopeokc.org/event/set-free-praise-dance-conference/
END:VEVENT
END:VCALENDAR