BEGIN:VCALENDAR
VERSION:2.0
PRODID:-//Voice of Hope SDA Church - Oklahoma City, OK - ECPv6.15.1.1//NONSGML v1.0//EN
CALSCALE:GREGORIAN
METHOD:PUBLISH
X-ORIGINAL-URL:https://voiceofhopeokc.org
X-WR-CALDESC:Events for Voice of Hope SDA Church - Oklahoma City, OK
REFRESH-INTERVAL;VALUE=DURATION:PT1H
X-Robots-Tag:noindex
X-PUBLISHED-TTL:PT1H
BEGIN:VTIMEZONE
TZID:UTC
BEGIN:STANDARD
TZOFFSETFROM:+0000
TZOFFSETTO:+0000
TZNAME:UTC
DTSTART:20240101T000000
END:STANDARD
END:VTIMEZONE
BEGIN:VEVENT
DTSTART;VALUE=DATE:20240613
DTEND;VALUE=DATE:20240616
DTSTAMP:20260424T225958
CREATED:20240524T050311Z
LAST-MODIFIED:20240524T050327Z
UID:9676-1718236800-1718495999@voiceofhopeokc.org
SUMMARY:Vacation Bible School
DESCRIPTION:
URL:https://voiceofhopeokc.org/event/vbs/
LOCATION:Lone Star Camp\, 6829 FM317\, Athens\, TX\, 75752\, United States
END:VEVENT
END:VCALENDAR