BEGIN:VCALENDAR
VERSION:2.0
PRODID:-//Voice of Hope SDA Church - Oklahoma City, OK - ECPv6.15.1.1//NONSGML v1.0//EN
CALSCALE:GREGORIAN
METHOD:PUBLISH
X-ORIGINAL-URL:https://voiceofhopeokc.org
X-WR-CALDESC:Events for Voice of Hope SDA Church - Oklahoma City, OK
REFRESH-INTERVAL;VALUE=DURATION:PT1H
X-Robots-Tag:noindex
X-PUBLISHED-TTL:PT1H
BEGIN:VTIMEZONE
TZID:UTC
BEGIN:STANDARD
TZOFFSETFROM:+0000
TZOFFSETTO:+0000
TZNAME:UTC
DTSTART:20260101T000000
END:STANDARD
END:VTIMEZONE
BEGIN:VEVENT
DTSTART;VALUE=DATE:20260221
DTEND;VALUE=DATE:20260222
DTSTAMP:20260423T171539
CREATED:20240320T055618Z
LAST-MODIFIED:20260131T174330Z
UID:9612-1771632000-1771718399@voiceofhopeokc.org
SUMMARY:Family and Friends Day
DESCRIPTION:
URL:https://voiceofhopeokc.org/event/family-and-friends-day/
LOCATION:Voice of Hope SDA Church\, 3300 NE 23rd St.\, Oklahoma City\, OK\, 73121\, United States
END:VEVENT
END:VCALENDAR