BEGIN:VCALENDAR
VERSION:2.0
PRODID:-//Voice of Hope SDA Church - Oklahoma City, OK - ECPv6.15.1.1//NONSGML v1.0//EN
CALSCALE:GREGORIAN
METHOD:PUBLISH
X-WR-CALNAME:Voice of Hope SDA Church - Oklahoma City, OK
X-ORIGINAL-URL:https://voiceofhopeokc.org
X-WR-CALDESC:Events for Voice of Hope SDA Church - Oklahoma City, OK
REFRESH-INTERVAL;VALUE=DURATION:PT1H
X-Robots-Tag:noindex
X-PUBLISHED-TTL:PT1H
BEGIN:VTIMEZONE
TZID:UTC
BEGIN:STANDARD
TZOFFSETFROM:+0000
TZOFFSETTO:+0000
TZNAME:UTC
DTSTART:20260101T000000
END:STANDARD
END:VTIMEZONE
BEGIN:VEVENT
DTSTART;TZID=UTC:20260325T120000
DTEND;TZID=UTC:20260325T130000
DTSTAMP:20260423T154123
CREATED:20260314T232350Z
LAST-MODIFIED:20260314T232350Z
UID:10169-1774440000-1774443600@voiceofhopeokc.org
SUMMARY:Noon Prayer Meeting
DESCRIPTION:
URL:https://voiceofhopeokc.org/event/noon-prayer-meeting-2/
END:VEVENT
BEGIN:VEVENT
DTSTART;TZID=UTC:20260325T190000
DTEND;TZID=UTC:20260325T200000
DTSTAMP:20260423T154123
CREATED:20260314T232221Z
LAST-MODIFIED:20260314T232221Z
UID:10166-1774465200-1774468800@voiceofhopeokc.org
SUMMARY:Prayer Meeting
DESCRIPTION:
URL:https://voiceofhopeokc.org/event/prayer-meeting-2/
END:VEVENT
END:VCALENDAR