BEGIN:VCALENDAR
VERSION:2.0
PRODID:-//Voice of Hope SDA Church - Oklahoma City, OK - ECPv6.15.1.1//NONSGML v1.0//EN
CALSCALE:GREGORIAN
METHOD:PUBLISH
X-ORIGINAL-URL:https://voiceofhopeokc.org
X-WR-CALDESC:Events for Voice of Hope SDA Church - Oklahoma City, OK
REFRESH-INTERVAL;VALUE=DURATION:PT1H
X-Robots-Tag:noindex
X-PUBLISHED-TTL:PT1H
BEGIN:VTIMEZONE
TZID:UTC
BEGIN:STANDARD
TZOFFSETFROM:+0000
TZOFFSETTO:+0000
TZNAME:UTC
DTSTART:20260101T000000
END:STANDARD
END:VTIMEZONE
BEGIN:VEVENT
DTSTART;VALUE=DATE:20260321
DTEND;VALUE=DATE:20260322
DTSTAMP:20260423T183102
CREATED:20260314T021148Z
LAST-MODIFIED:20260314T021148Z
UID:10149-1774051200-1774137599@voiceofhopeokc.org
SUMMARY:Pastor Stephens Brooks – Religious Liberty
DESCRIPTION:
URL:https://voiceofhopeokc.org/event/pastor-stephens-brooks-religious-liberty/
END:VEVENT
BEGIN:VEVENT
DTSTART;TZID=UTC:20260325T120000
DTEND;TZID=UTC:20260325T130000
DTSTAMP:20260423T183102
CREATED:20260314T232350Z
LAST-MODIFIED:20260314T232350Z
UID:10169-1774440000-1774443600@voiceofhopeokc.org
SUMMARY:Noon Prayer Meeting
DESCRIPTION:
URL:https://voiceofhopeokc.org/event/noon-prayer-meeting-2/
END:VEVENT
BEGIN:VEVENT
DTSTART;TZID=UTC:20260325T190000
DTEND;TZID=UTC:20260325T200000
DTSTAMP:20260423T183102
CREATED:20260314T232221Z
LAST-MODIFIED:20260314T232221Z
UID:10166-1774465200-1774468800@voiceofhopeokc.org
SUMMARY:Prayer Meeting
DESCRIPTION:
URL:https://voiceofhopeokc.org/event/prayer-meeting-2/
END:VEVENT
BEGIN:VEVENT
DTSTART;VALUE=DATE:20260328
DTEND;VALUE=DATE:20260329
DTSTAMP:20260423T183102
CREATED:20180821T144923Z
LAST-MODIFIED:20260314T022126Z
UID:8288-1774656000-1774742399@voiceofhopeokc.org
SUMMARY:Communion
DESCRIPTION:
URL:https://voiceofhopeokc.org/event/communion/
END:VEVENT
BEGIN:VEVENT
DTSTART;TZID=UTC:20260401T120000
DTEND;TZID=UTC:20260401T130000
DTSTAMP:20260423T183102
CREATED:20260314T232456Z
LAST-MODIFIED:20260314T232456Z
UID:10172-1775044800-1775048400@voiceofhopeokc.org
SUMMARY:Noon Prayer Meeting
DESCRIPTION:
URL:https://voiceofhopeokc.org/event/noon-prayer-meeting-3/
END:VEVENT
BEGIN:VEVENT
DTSTART;TZID=UTC:20260401T190000
DTEND;TZID=UTC:20260401T200000
DTSTAMP:20260423T183102
CREATED:20260314T232547Z
LAST-MODIFIED:20260314T232547Z
UID:10174-1775070000-1775073600@voiceofhopeokc.org
SUMMARY:Prayer Meeting
DESCRIPTION:
URL:https://voiceofhopeokc.org/event/prayer-meeting-3/
END:VEVENT
BEGIN:VEVENT
DTSTART;VALUE=DATE:20260410
DTEND;VALUE=DATE:20260413
DTSTAMP:20260423T183102
CREATED:20260314T003343Z
LAST-MODIFIED:20260314T022222Z
UID:10140-1775779200-1776038399@voiceofhopeokc.org
SUMMARY:Elder Ron Price – Relationship CPR
DESCRIPTION:
URL:https://voiceofhopeokc.org/event/the-relationship-cpr-seminar/
END:VEVENT
BEGIN:VEVENT
DTSTART;VALUE=DATE:20260418
DTEND;VALUE=DATE:20260419
DTSTAMP:20260423T183102
CREATED:20260314T021705Z
LAST-MODIFIED:20260314T021705Z
UID:10154-1776470400-1776556799@voiceofhopeokc.org
SUMMARY:Pastor Tyrone Boyd – Personal Ministry Seminar
DESCRIPTION:
URL:https://voiceofhopeokc.org/event/pastor-tyrone-boyd-personal-ministry-seminar/
END:VEVENT
BEGIN:VEVENT
DTSTART;VALUE=DATE:20260425
DTEND;VALUE=DATE:20260426
DTSTAMP:20260423T183102
CREATED:20260314T021757Z
LAST-MODIFIED:20260314T021757Z
UID:10156-1777075200-1777161599@voiceofhopeokc.org
SUMMARY:C. I. A. Sabbath and Adventurer’s Investiture
DESCRIPTION:
URL:https://voiceofhopeokc.org/event/c-i-a-sabbath-and-adventurers-investiture/
END:VEVENT
END:VCALENDAR