BEGIN:VCALENDAR
VERSION:2.0
PRODID:-//Voice of Hope SDA Church - Oklahoma City, OK - ECPv6.15.1.1//NONSGML v1.0//EN
CALSCALE:GREGORIAN
METHOD:PUBLISH
X-WR-CALNAME:Voice of Hope SDA Church - Oklahoma City, OK
X-ORIGINAL-URL:https://voiceofhopeokc.org
X-WR-CALDESC:Events for Voice of Hope SDA Church - Oklahoma City, OK
REFRESH-INTERVAL;VALUE=DURATION:PT1H
X-Robots-Tag:noindex
X-PUBLISHED-TTL:PT1H
BEGIN:VTIMEZONE
TZID:UTC
BEGIN:STANDARD
TZOFFSETFROM:+0000
TZOFFSETTO:+0000
TZNAME:UTC
DTSTART:20180101T000000
END:STANDARD
END:VTIMEZONE
BEGIN:VEVENT
DTSTART;VALUE=DATE:20190713
DTEND;VALUE=DATE:20190714
DTSTAMP:20260423T224022
CREATED:20190629T151115Z
LAST-MODIFIED:20190629T151142Z
UID:8467-1562976000-1563062399@voiceofhopeokc.org
SUMMARY:Crochet Class for Ages 5 - 15
DESCRIPTION:CHILDREN’S MINISTRIES: CROCHET CLASS FOR AGES 5-15 will start on July 13. Please bring your children to this “Lunch and Learn” Class. \nDonations and volunteers are needed for this class. Children’s Ministries and Education Department will be accepting “COIN DONATIONS” for VOH\nGod’s Miracle Fund.
URL:https://voiceofhopeokc.org/event/crochet-class/
LOCATION:Voice of Hope SDA Church\, 3300 NE 23rd St.\, Oklahoma City\, OK\, 73121\, United States
END:VEVENT
BEGIN:VEVENT
DTSTART;TZID=UTC:20190630T173000
DTEND;TZID=UTC:20190630T213000
DTSTAMP:20260423T224022
CREATED:20190629T150823Z
LAST-MODIFIED:20190629T150852Z
UID:8464-1561915800-1561930200@voiceofhopeokc.org
SUMMARY:Seniors of Distinction Evening Program
DESCRIPTION:We invite everyone to attend the Seniors of Distinction’s “EVENING PROGRAM” on June 30\, 2019 at 5:30pm. Dr. Pamela Allen will be the Mistress of Ceremony for that evening. There will be a fashion show\, music\, Dinner and so much more! \nDonation: $20. You can put your donation in an offering envelope and mark it Senior Ministry.
URL:https://voiceofhopeokc.org/event/seniors-of-distinction/
LOCATION:Voice of Hope SDA Church\, 3300 NE 23rd St.\, Oklahoma City\, OK\, 73121\, United States
END:VEVENT
BEGIN:VEVENT
DTSTART;TZID=UTC:20190622T170000
DTEND;TZID=UTC:20190622T180000
DTSTAMP:20260423T224022
CREATED:20190516T134109Z
LAST-MODIFIED:20190723T231243Z
UID:8445-1561222800-1561226400@voiceofhopeokc.org
SUMMARY:Mental Health Seminar
DESCRIPTION:Join us for this critical seminar on mental health. Please feel free to invite your family and friends. \nContact Renissa Arnold for more information. \n \n  \nPhotos from this event: \n\n\n\n	\n	\n		\n	\n\n	\n\n				\n					\n		\n			\n		\n	\n	\n							\n						\n					\n										\n						\n					\n													\n						\n					\n										\n						\n					\n											\n	\n		\n			\n									mental-health-seminar-2\n															\n		\n\n	\n\n\n	\n\n	\n\n				\n					\n		\n			\n		\n	\n	\n							\n						\n					\n										\n						\n					\n													\n						\n					\n										\n						\n					\n											\n	\n		\n			\n									mental-health-seminar-3\n															\n		\n\n	\n\n\n	\n\n	\n\n				\n					\n		\n			\n		\n	\n	\n							\n						\n					\n										\n						\n					\n													\n						\n					\n										\n						\n					\n											\n	\n		\n			\n									mental-health-seminar-4\n															\n		\n\n	\n\n\n	\n\n	\n\n				\n					\n		\n			\n		\n	\n	\n							\n						\n					\n										\n						\n					\n													\n						\n					\n										\n						\n					\n											\n	\n		\n			\n									mental-health-seminar-1
URL:https://voiceofhopeokc.org/event/mental-health-seminar/
LOCATION:Voice of Hope SDA Church\, 3300 NE 23rd St.\, Oklahoma City\, OK\, 73121\, United States
END:VEVENT
BEGIN:VEVENT
DTSTART;VALUE=DATE:20190607
DTEND;VALUE=DATE:20190616
DTSTAMP:20260423T224022
CREATED:20170315T130541Z
LAST-MODIFIED:20190321T133314Z
UID:8221-1559865600-1560643199@voiceofhopeokc.org
SUMMARY:Camp Meeting
DESCRIPTION:Please visit here for Camp Meeting ticket information.
URL:https://voiceofhopeokc.org/event/camp-meeting/
LOCATION:Lone Star Camp\, 6829 FM317\, Athens\, TX\, 75752\, United States
END:VEVENT
BEGIN:VEVENT
DTSTART;TZID=UTC:20190531T000000
DTEND;TZID=UTC:20190602T000000
DTSTAMP:20260423T224022
CREATED:20190108T235052Z
LAST-MODIFIED:20190108T235052Z
UID:8370-1559260800-1559433600@voiceofhopeokc.org
SUMMARY:Men's Convention
DESCRIPTION:Don’t miss this EPIC Men’s Convention taking place on May 31st to June 2nd 2019. Find more details and registration information here. \n \n 
URL:https://voiceofhopeokc.org/event/mens-convention/
LOCATION:OK
END:VEVENT
BEGIN:VEVENT
DTSTART;TZID=UTC:20190526T120000
DTEND;TZID=UTC:20190526T133000
DTSTAMP:20260423T224022
CREATED:20190516T125209Z
LAST-MODIFIED:20190722T013034Z
UID:8438-1558872000-1558877400@voiceofhopeokc.org
SUMMARY:Free Community Cooking Class
DESCRIPTION:UPDATE – Community Cooking Class Photos from May 26\, 2019: \n\n\n\n	\n	\n		\n	\n\n	\n\n				\n					\n		\n			\n		\n	\n	\n							\n						\n					\n										\n						\n					\n													\n						\n					\n										\n						\n					\n											\n	\n		\n			\n									IMG_1705\n															\n		\n\n	\n\n\n	\n\n	\n\n				\n					\n		\n			\n		\n	\n	\n							\n						\n					\n										\n						\n					\n													\n						\n					\n										\n						\n					\n											\n	\n		\n			\n									IMG_1703\n															\n		\n\n	\n\n\n	\n\n	\n\n				\n					\n		\n			\n		\n	\n	\n							\n						\n					\n										\n						\n					\n													\n						\n					\n										\n						\n					\n											\n	\n		\n			\n									IMG_1697\n															\n		\n\n	\n\n\n	\n\n	\n\n				\n					\n		\n			\n		\n	\n	\n							\n						\n					\n										\n						\n					\n													\n						\n					\n										\n						\n					\n											\n	\n		\n			\n									IMG_1696\n															\n		\n\n	\n\n\n	\n\n	\n\n				\n					\n		\n			\n		\n	\n	\n							\n						\n					\n										\n						\n					\n													\n						\n					\n										\n						\n					\n											\n	\n		\n			\n									IMG_1695\n															\n		\n\n	\n\n\n	\n\n	\n\n				\n					\n		\n			\n		\n	\n	\n							\n						\n					\n										\n						\n					\n													\n						\n					\n										\n						\n					\n											\n	\n		\n			\n									IMG_1694\n															\n		\n\n	\n\n\n	\n\n	\n\n				\n					\n		\n			\n		\n	\n	\n							\n						\n					\n										\n						\n					\n													\n						\n					\n										\n						\n					\n											\n	\n		\n			\n									IMG_1693\n															\n		\n\n	\n\n\n	\n\n	\n\n				\n					\n		\n			\n		\n	\n	\n							\n						\n					\n										\n						\n					\n													\n						\n					\n										\n						\n					\n											\n	\n		\n			\n									IMG_1679\n															\n		\n\n	\n\n\n	\n\n	\n\n				\n					\n		\n			\n		\n	\n	\n							\n						\n					\n										\n						\n					\n													\n						\n					\n										\n						\n					\n											\n	\n		\n			\n									IMG_1676\n															\n		\n\n	\n\n\n	\n\n	\n\n				\n					\n		\n			\n		\n	\n	\n							\n						\n					\n										\n						\n					\n													\n						\n					\n										\n						\n					\n											\n	\n		\n			\n									IMG_1674\n															\n		\n\n	\n\n\n	\n\n	\n\n				\n					\n		\n			\n		\n	\n	\n							\n						\n					\n										\n						\n					\n													\n						\n					\n										\n						\n					\n											\n	\n		\n			\n									IMG_0583\n															\n		\n\n	\n\n\n	\n\n	\n\n				\n					\n		\n			\n		\n	\n	\n							\n						\n					\n										\n						\n					\n													\n						\n					\n										\n						\n					\n											\n	\n		\n			\n									IMG_0581\n															\n		\n\n	\n\n\n	\n\n	\n\n				\n					\n		\n			\n		\n	\n	\n							\n						\n					\n										\n						\n					\n													\n						\n					\n										\n						\n					\n											\n	\n		\n			\n									IMG_0570\n															\n		\n\n	\n\n\n	\n\n	\n\n				\n					\n		\n			\n		\n	\n	\n							\n						\n					\n										\n						\n					\n													\n						\n					\n										\n						\n					\n											\n	\n		\n			\n									IMG_0567\n															\n		\n\n	\n\n\n	\n\n	\n\n				\n					\n		\n			\n		\n	\n	\n							\n						\n					\n										\n						\n					\n													\n						\n					\n										\n						\n					\n											\n	\n		\n			\n									IMG_0565\n															\n		\n\n	\n\n\n	\n\n	\n\n				\n					\n		\n			\n		\n	\n	\n							\n						\n					\n										\n						\n					\n													\n						\n					\n										\n						\n					\n											\n	\n		\n			\n									IMG_0537\n															\n		\n\n	\n\n\n	\n\n	\n\n				\n					\n		\n			\n		\n	\n	\n							\n						\n					\n										\n						\n					\n													\n						\n					\n										\n						\n					\n											\n	\n		\n			\n									IMG_0534\n															\n		\n\n	\n\n\n	\n\n	\n\n				\n					\n		\n			\n		\n	\n	\n							\n						\n					\n										\n						\n					\n													\n						\n					\n										\n						\n					\n											\n	\n		\n			\n									IMG_0533\n															\n		\n\n	\n\n\n	\n\n	\n\n				\n					\n		\n			\n		\n	\n	\n							\n						\n					\n										\n						\n					\n													\n						\n					\n										\n						\n					\n											\n	\n		\n			\n									IMG_0529\n															\n		\n\n	\n\n\n	\n\n	\n\n				\n					\n		\n			\n		\n	\n	\n							\n						\n					\n										\n						\n					\n													\n						\n					\n										\n						\n					\n											\n	\n		\n			\n									IMG_0528\n															\n		\n\n	\n\n		\n	\n\n	\n	\n	\n\n	\n\n\n\n\n\n	\n	\n		\n	\n\n	\n\n				\n					\n		\n			\n		\n	\n	\n							\n						\n					\n										\n						\n					\n													\n						\n					\n										\n						\n					\n											\n	\n		\n			\n									IMG_0521\n															\n		\n\n	\n\n\n	\n\n	\n\n				\n					\n		\n			\n		\n	\n	\n							\n						\n					\n										\n						\n					\n													\n						\n					\n										\n						\n					\n											\n	\n		\n			\n									IMG_0519\n															\n		\n\n	\n\n\n	\n\n	\n\n				\n					\n		\n			\n		\n	\n	\n							\n						\n					\n										\n						\n					\n													\n						\n					\n										\n						\n					\n											\n	\n		\n			\n									IMG_0516\n															\n		\n\n	\n\n\n	\n\n	\n\n				\n					\n		\n			\n		\n	\n	\n							\n						\n					\n										\n						\n					\n													\n						\n					\n										\n						\n					\n											\n	\n		\n			\n									IMG_0514\n															\n		\n\n	\n\n\n	\n\n	\n\n				\n					\n		\n			\n		\n	\n	\n							\n						\n					\n										\n						\n					\n													\n						\n					\n										\n						\n					\n											\n	\n		\n			\n									IMG_0508\n															\n		\n\n	\n\n\n	\n\n	\n\n				\n					\n		\n			\n		\n	\n	\n							\n						\n					\n										\n						\n					\n													\n						\n					\n										\n						\n					\n											\n	\n		\n			\n									IMG_0502\n															\n		\n\n	\n\n\n	\n\n	\n\n				\n					\n		\n			\n		\n	\n	\n							\n						\n					\n										\n						\n					\n													\n						\n					\n										\n						\n					\n											\n	\n		\n			\n									IMG_0500\n															\n		\n\n	\n\n\n	\n\n	\n\n				\n					\n		\n			\n		\n	\n	\n							\n						\n					\n										\n						\n					\n													\n						\n					\n										\n						\n					\n											\n	\n		\n			\n									IMG_0499\n															\n		\n\n	\n\n\n	\n\n	\n\n				\n					\n		\n			\n		\n	\n	\n							\n						\n					\n										\n						\n					\n													\n						\n					\n										\n						\n					\n											\n	\n		\n			\n									IMG_0493\n															\n		\n\n	\n\n\n	\n\n	\n\n				\n					\n		\n			\n		\n	\n	\n							\n						\n					\n										\n						\n					\n													\n						\n					\n										\n						\n					\n											\n	\n		\n			\n									IMG_0490\n															\n		\n\n	\n\n\n	\n\n	\n\n				\n					\n		\n			\n		\n	\n	\n							\n						\n					\n										\n						\n					\n													\n						\n					\n										\n						\n					\n											\n	\n		\n			\n									IMG_0488\n															\n		\n\n	\n\n\n	\n\n	\n\n				\n					\n		\n			\n		\n	\n	\n							\n						\n					\n										\n						\n					\n													\n						\n					\n										\n						\n					\n											\n	\n		\n			\n									IMG_0487
URL:https://voiceofhopeokc.org/event/cooking-class/
LOCATION:Voice of Hope SDA Church\, 3300 NE 23rd St.\, Oklahoma City\, OK\, 73121\, United States
END:VEVENT
BEGIN:VEVENT
DTSTART;VALUE=DATE:20190405
DTEND;VALUE=DATE:20190414
DTSTAMP:20260423T224022
CREATED:20190222T140426Z
LAST-MODIFIED:20190401T014342Z
UID:8388-1554422400-1555199999@voiceofhopeokc.org
SUMMARY:University of the Saints Training
DESCRIPTION:The University of the Saints Training will be held at the Voice of Hope SDA Church from March 15th – 16th\, 2019. Please register here. \n \n 
URL:https://voiceofhopeokc.org/event/university-of-the-saints-training/
LOCATION:Voice of Hope SDA Church\, 3300 NE 23rd St.\, Oklahoma City\, OK\, 73121\, United States
END:VEVENT
BEGIN:VEVENT
DTSTART;VALUE=DATE:20190310
DTEND;VALUE=DATE:20190311
DTSTAMP:20260423T224022
CREATED:20190222T142238Z
LAST-MODIFIED:20190222T145250Z
UID:8391-1552176000-1552262399@voiceofhopeokc.org
SUMMARY:Town Hall Meeting
DESCRIPTION:We will be hosting one of the Town Hall Meetings at our church. All everyone is welcome to attend on March 10\, 2019.
URL:https://voiceofhopeokc.org/event/town-hall-meeting/
LOCATION:Voice of Hope SDA Church\, 3300 NE 23rd St.\, Oklahoma City\, OK\, 73121\, United States
END:VEVENT
BEGIN:VEVENT
DTSTART;VALUE=DATE:20190306
DTEND;VALUE=DATE:20190310
DTSTAMP:20260423T224022
CREATED:20190222T143857Z
LAST-MODIFIED:20190222T144530Z
UID:8398-1551830400-1552175999@voiceofhopeokc.org
SUMMARY:Mission Outreach
DESCRIPTION:Please visit here for more details.
URL:https://voiceofhopeokc.org/event/mission-outreach/
LOCATION:OK
END:VEVENT
BEGIN:VEVENT
DTSTART;VALUE=DATE:20190302
DTEND;VALUE=DATE:20190303
DTSTAMP:20260423T224022
CREATED:20190211T051753Z
LAST-MODIFIED:20190211T051753Z
UID:8378-1551484800-1551571199@voiceofhopeokc.org
SUMMARY:Women's Seminar
DESCRIPTION:
URL:https://voiceofhopeokc.org/event/womens-seminar/
LOCATION:Voice of Hope SDA Church\, 3300 NE 23rd St.\, Oklahoma City\, OK\, 73121\, United States
END:VEVENT
BEGIN:VEVENT
DTSTART;TZID=UTC:20190224T123000
DTEND;TZID=UTC:20190224T143000
DTSTAMP:20260423T224022
CREATED:20190211T052851Z
LAST-MODIFIED:20190725T140540Z
UID:8383-1551011400-1551018600@voiceofhopeokc.org
SUMMARY:CPR / AED Class
DESCRIPTION:We’d love for you to join us for this vital CPR / AED Class on February 24\, 2019.  Please share and invite your family and friends. \nInstructor: Kevin Smith\, Certified Instructor with American Safety and Health Institute. \nCost: $10/person for education/observation only. $25/person for certification. \nContact: Dr. Pamela Allen \nUpdate from this event: 25 participants\, 15 certified \nEvent photos: \n\n\n\n	\n	\n		\n	\n\n	\n\n				\n					\n		\n			\n		\n	\n	\n							\n						\n					\n										\n						\n					\n													\n						\n					\n										\n						\n					\n											\n	\n		\n			\n									cpr6\n															\n		\n\n	\n\n\n	\n\n	\n\n				\n					\n		\n			\n		\n	\n	\n							\n						\n					\n										\n						\n					\n													\n						\n					\n										\n						\n					\n											\n	\n		\n			\n									cpr5\n															\n		\n\n	\n\n\n	\n\n	\n\n				\n					\n		\n			\n		\n	\n	\n							\n						\n					\n										\n						\n					\n													\n						\n					\n										\n						\n					\n											\n	\n		\n			\n									cpr4\n															\n		\n\n	\n\n\n	\n\n	\n\n				\n					\n		\n			\n		\n	\n	\n							\n						\n					\n										\n						\n					\n													\n						\n					\n										\n						\n					\n											\n	\n		\n			\n									cpr3\n															\n		\n\n	\n\n\n	\n\n	\n\n				\n					\n		\n			\n		\n	\n	\n							\n						\n					\n										\n						\n					\n													\n						\n					\n										\n						\n					\n											\n	\n		\n			\n									cpr2\n															\n		\n\n	\n\n\n	\n\n	\n\n				\n					\n		\n			\n		\n	\n	\n							\n						\n					\n										\n						\n					\n													\n						\n					\n										\n						\n					\n											\n	\n		\n			\n									cpr1\n															\n		\n\n	\n\n		\n	\n\n	\n	\n	\n\n	\n\n\n 
URL:https://voiceofhopeokc.org/event/cpr-aed-class/
LOCATION:Voice of Hope SDA Church\, 3300 NE 23rd St.\, Oklahoma City\, OK\, 73121\, United States
CATEGORIES:Health Ministries
END:VEVENT
BEGIN:VEVENT
DTSTART;TZID=UTC:20190109T190000
DTEND;TZID=UTC:20190119T200000
DTSTAMP:20260423T224022
CREATED:20170107T153512Z
LAST-MODIFIED:20190107T171709Z
UID:8189-1547060400-1547928000@voiceofhopeokc.org
SUMMARY:10 Days of Prayer
DESCRIPTION:Join us for 10 Days of Prayer from January 9 – January 19 2019 \nPlease reference the following resource for more details:  http://tendaysofprayer.org/
URL:https://voiceofhopeokc.org/event/10-days-of-prayer/
LOCATION:OK
CATEGORIES:Weekly Church Events
END:VEVENT
BEGIN:VEVENT
DTSTART;TZID=UTC:20181231T160000
DTEND;TZID=UTC:20181231T160000
DTSTAMP:20260423T224022
CREATED:20181214T235715Z
LAST-MODIFIED:20181214T235729Z
UID:8364-1546272000-1546272000@voiceofhopeokc.org
SUMMARY:Joint Communion
DESCRIPTION:You’re invited to join us for our joint communion on December 31. 2018. We’ll be starting at 4pm.
URL:https://voiceofhopeokc.org/event/joint-communion/
LOCATION:Voice of Hope SDA Church\, 3300 NE 23rd St.\, Oklahoma City\, OK\, 73121\, United States
END:VEVENT
BEGIN:VEVENT
DTSTART;TZID=UTC:20181230T150000
DTEND;TZID=UTC:20181230T160000
DTSTAMP:20260423T224022
CREATED:20181214T235357Z
LAST-MODIFIED:20181214T235447Z
UID:8362-1546182000-1546185600@voiceofhopeokc.org
SUMMARY:Communion Rehearsal
DESCRIPTION:We’ll be having our communion rehearsal on December 30\, 2018. Please be prepared to meet at 3pm.
URL:https://voiceofhopeokc.org/event/communion-rehearsal/
LOCATION:Voice of Hope SDA Church\, 3300 NE 23rd St.\, Oklahoma City\, OK\, 73121\, United States
END:VEVENT
BEGIN:VEVENT
DTSTART;TZID=UTC:20181220T173000
DTEND;TZID=UTC:20181220T173000
DTSTAMP:20260423T224022
CREATED:20180925T213847Z
LAST-MODIFIED:20181214T234846Z
UID:8325-1545327000-1545327000@voiceofhopeokc.org
SUMMARY:Excercise Class
DESCRIPTION:Come get fit and join our Thursday exercise class!
URL:https://voiceofhopeokc.org/event/excercise-class-3/
LOCATION:Voice of Hope SDA Church\, 3300 NE 23rd St.\, Oklahoma City\, OK\, 73121\, United States
END:VEVENT
BEGIN:VEVENT
DTSTART;TZID=UTC:20181217T173000
DTEND;TZID=UTC:20181217T173000
DTSTAMP:20260423T224022
CREATED:20180925T213752Z
LAST-MODIFIED:20181214T234927Z
UID:8323-1545067800-1545067800@voiceofhopeokc.org
SUMMARY:Excercise Class
DESCRIPTION:Come get fit and join our exercise class on Mondays!
URL:https://voiceofhopeokc.org/event/excercise-class-2/
LOCATION:Voice of Hope SDA Church\, 3300 NE 23rd St.\, Oklahoma City\, OK\, 73121\, United States
END:VEVENT
BEGIN:VEVENT
DTSTART;TZID=UTC:20181216T123000
DTEND;TZID=UTC:20181216T123000
DTSTAMP:20260423T224022
CREATED:20180925T213518Z
LAST-MODIFIED:20181214T234800Z
UID:8321-1544963400-1544963400@voiceofhopeokc.org
SUMMARY:Excercise Class
DESCRIPTION:Join our exercise class every Sundays at 12:30pm.
URL:https://voiceofhopeokc.org/event/excercise-class/
LOCATION:Voice of Hope SDA Church\, 3300 NE 23rd St.\, Oklahoma City\, OK\, 73121\, United States
END:VEVENT
BEGIN:VEVENT
DTSTART;TZID=UTC:20181216T100000
DTEND;TZID=UTC:20181216T100000
DTSTAMP:20260423T224022
CREATED:20180901T043352Z
LAST-MODIFIED:20181214T235042Z
UID:8087-1544954400-1544954400@voiceofhopeokc.org
SUMMARY:Church business meeting
DESCRIPTION:The church business meeting will begin promptly at 10am.
URL:https://voiceofhopeokc.org/event/church-business-meeting/
LOCATION:Voice of Hope SDA Church\, 3300 NE 23rd St.\, Oklahoma City\, OK\, 73121\, United States
END:VEVENT
BEGIN:VEVENT
DTSTART;TZID=UTC:20181215T000000
DTEND;TZID=UTC:20181215T000000
DTSTAMP:20260423T224022
CREATED:20181203T151945Z
LAST-MODIFIED:20181203T152111Z
UID:8358-1544832000-1544832000@voiceofhopeokc.org
SUMMARY:Bake Sale
DESCRIPTION:PATHFINDERS ARE HAVING A BAKE SALE! We will have a variety of desserts available for purchase. We will have samples as well as order forms on 12/1/18. We will begin taking orders 12/1/18. All orders must be placed by 12/15/18. Please support the VOH Eagles!!!
URL:https://voiceofhopeokc.org/event/bake-sale/
LOCATION:Voice of Hope SDA Church\, 3300 NE 23rd St.\, Oklahoma City\, OK\, 73121\, United States
END:VEVENT
BEGIN:VEVENT
DTSTART;VALUE=DATE:20181207
DTEND;VALUE=DATE:20181210
DTSTAMP:20260423T224022
CREATED:20171202T032809Z
LAST-MODIFIED:20181027T021652Z
UID:8250-1544140800-1544399999@voiceofhopeokc.org
SUMMARY:Singles Enrichment Weekend
DESCRIPTION:The Annual Singles Enrichment Weekend will be held on December 7th – 9th 2018 in New Orleans\, LA. Please contact Sister Patricia Collins for more information.
URL:https://voiceofhopeokc.org/event/singles-enrichment-weekend/
LOCATION:OK
END:VEVENT
BEGIN:VEVENT
DTSTART;TZID=UTC:20181201T183000
DTEND;TZID=UTC:20181201T220000
DTSTAMP:20260423T224022
CREATED:20160319T032718Z
LAST-MODIFIED:20181112T065126Z
UID:8091-1543689000-1543701600@voiceofhopeokc.org
SUMMARY:Youth Day
DESCRIPTION:Youth day will be held on December 1st. We will be having a basketball tournament that evening. All are welcome to come watch or join in. \nThere will be a cash prize of $200.00.Teams of 5 will cost 25.00 to register. The cost for ALL spectators\, 4 years and older\, will be $3.00.   \nIf you are interested in being a referee\, helping with the take down and set up of the gym or\nhave any questions please see Amanda Buchanan.
URL:https://voiceofhopeokc.org/event/youth-day/
LOCATION:Voice of Hope SDA Church\, 3300 NE 23rd St.\, Oklahoma City\, OK\, 73121\, United States
END:VEVENT
BEGIN:VEVENT
DTSTART;TZID=UTC:20181201T140000
DTEND;TZID=UTC:20181201T150000
DTSTAMP:20260423T224022
CREATED:20181001T135553Z
LAST-MODIFIED:20181126T155539Z
UID:8328-1543672800-1543676400@voiceofhopeokc.org
SUMMARY:SDA 101
DESCRIPTION:
URL:https://voiceofhopeokc.org/event/sda-101/
LOCATION:Voice of Hope SDA Church\, 3300 NE 23rd St.\, Oklahoma City\, OK\, 73121\, United States
END:VEVENT
BEGIN:VEVENT
DTSTART;TZID=UTC:20181127T180000
DTEND;TZID=UTC:20181127T190000
DTSTAMP:20260423T224022
CREATED:20180821T145538Z
LAST-MODIFIED:20181126T154942Z
UID:8290-1543341600-1543345200@voiceofhopeokc.org
SUMMARY:Alcoholics Anonymous Meeting
DESCRIPTION:We’re having an Alcoholics Anonymous Meeting every Tuesday at 6:00pm. Please feel free to share this with anyone who would benefit from this meeting.
URL:https://voiceofhopeokc.org/event/alcoholics-anonymous-meeting/
LOCATION:Voice of Hope SDA Church\, 3300 NE 23rd St.\, Oklahoma City\, OK\, 73121\, United States
END:VEVENT
BEGIN:VEVENT
DTSTART;TZID=UTC:20181118T103000
DTEND;TZID=UTC:20181118T103000
DTSTAMP:20260423T224022
CREATED:20181112T064601Z
LAST-MODIFIED:20181112T064601Z
UID:8353-1542537000-1542537000@voiceofhopeokc.org
SUMMARY:Dream Session
DESCRIPTION:We will be having our first Dream Session as we begin planning for 2019. All church members and ministry teams are invited to attend and participate.
URL:https://voiceofhopeokc.org/event/dream-session/
LOCATION:OK
END:VEVENT
BEGIN:VEVENT
DTSTART;TZID=UTC:20181028T100000
DTEND;TZID=UTC:20181028T100000
DTSTAMP:20260423T224022
CREATED:20180922T014341Z
LAST-MODIFIED:20181027T020643Z
UID:8319-1540720800-1540720800@voiceofhopeokc.org
SUMMARY:Church Board of Directors Meeting
DESCRIPTION:
URL:https://voiceofhopeokc.org/event/church-board-of-directors-meeting/
LOCATION:Voice of Hope SDA Church\, 3300 NE 23rd St.\, Oklahoma City\, OK\, 73121\, United States
END:VEVENT
BEGIN:VEVENT
DTSTART;TZID=UTC:20181027T133000
DTEND;TZID=UTC:20181027T143000
DTSTAMP:20260423T224022
CREATED:20181015T151453Z
LAST-MODIFIED:20181015T151541Z
UID:8344-1540647000-1540650600@voiceofhopeokc.org
SUMMARY:Ministry Fair Day
DESCRIPTION:Stop by our ministry fair day right after the worship service on October 27\, 2018.
URL:https://voiceofhopeokc.org/event/ministry-fair-day/
LOCATION:Voice of Hope SDA Church\, 3300 NE 23rd St.\, Oklahoma City\, OK\, 73121\, United States
END:VEVENT
BEGIN:VEVENT
DTSTART;TZID=UTC:20181021T120000
DTEND;TZID=UTC:20181021T160000
DTSTAMP:20260423T224022
CREATED:20181015T151307Z
LAST-MODIFIED:20181015T151307Z
UID:8341-1540123200-1540137600@voiceofhopeokc.org
SUMMARY:Fish Fry
DESCRIPTION:
URL:https://voiceofhopeokc.org/event/fish-fry/
LOCATION:Arcadia Lake\, OK\, United States
END:VEVENT
BEGIN:VEVENT
DTSTART;TZID=UTC:20180928T190000
DTEND;TZID=UTC:20181006T200000
DTSTAMP:20260423T224022
CREATED:20170721T022627Z
LAST-MODIFIED:20190722T004056Z
UID:8230-1538161200-1538856000@voiceofhopeokc.org
SUMMARY:Fall Revival - Building Strong Families
DESCRIPTION:You’re invited to a special “Building Strong Families” Fall Revival from Sept. 28th – Oct. 6th 2018. You won’t want to miss out on this exciting and life-changing series! Bring your family and friends! \nTime: 7pm – 8pm (No meetings on Monday\, Tuesday and Thursday) \nBuilding Strong Families Through Health Part 1 (PDF) \nBuilding Strong Families Through Health Part 2 (PDF)
URL:https://voiceofhopeokc.org/event/fall-revival-building-strong-families/
LOCATION:Voice of Hope SDA Church\, 3300 NE 23rd St.\, Oklahoma City\, OK\, 73121\, United States
END:VEVENT
BEGIN:VEVENT
DTSTART;TZID=UTC:20180924T173000
DTEND;TZID=UTC:20180924T173000
DTSTAMP:20260423T224022
CREATED:20180922T013901Z
LAST-MODIFIED:20180922T013901Z
UID:8317-1537810200-1537810200@voiceofhopeokc.org
SUMMARY:Family Walk Time
DESCRIPTION:Join us for family walk time every Mondays and Wednesdays!
URL:https://voiceofhopeokc.org/event/family-walk-time/
LOCATION:Voice of Hope SDA Church\, 3300 NE 23rd St.\, Oklahoma City\, OK\, 73121\, United States
END:VEVENT
BEGIN:VEVENT
DTSTART;TZID=UTC:20180923T070000
DTEND;TZID=UTC:20180923T143000
DTSTAMP:20260423T224022
CREATED:20180901T044357Z
LAST-MODIFIED:20180901T044357Z
UID:8309-1537686000-1537713000@voiceofhopeokc.org
SUMMARY:Garage sale
DESCRIPTION:Women’s Ministries is organizing a garage sale on September 23rd\, from 7:00am to 2:30 pm. If you are interested in participating in selling items\, donating items\, volunteering to help set up\, Contact Sister Carol Berryhill no later than Friday\, September 7. A meeting will be held September 9 th at 11:00 am at VOH for the people that are participating. Lunch will be served.
URL:https://voiceofhopeokc.org/event/garage-sale/
LOCATION:Voice of Hope SDA Church\, 3300 NE 23rd St.\, Oklahoma City\, OK\, 73121\, United States
END:VEVENT
END:VCALENDAR