BEGIN:VCALENDAR
VERSION:2.0
PRODID:-//Voice of Hope SDA Church - Oklahoma City, OK - ECPv6.15.1.1//NONSGML v1.0//EN
CALSCALE:GREGORIAN
METHOD:PUBLISH
X-WR-CALNAME:Voice of Hope SDA Church - Oklahoma City, OK
X-ORIGINAL-URL:https://voiceofhopeokc.org
X-WR-CALDESC:Events for Voice of Hope SDA Church - Oklahoma City, OK
REFRESH-INTERVAL;VALUE=DURATION:PT1H
X-Robots-Tag:noindex
X-PUBLISHED-TTL:PT1H
BEGIN:VTIMEZONE
TZID:UTC
BEGIN:STANDARD
TZOFFSETFROM:+0000
TZOFFSETTO:+0000
TZNAME:UTC
DTSTART:20170101T000000
END:STANDARD
END:VTIMEZONE
BEGIN:VEVENT
DTSTART;TZID=UTC:20181216T123000
DTEND;TZID=UTC:20181216T123000
DTSTAMP:20260423T234251
CREATED:20180925T213518Z
LAST-MODIFIED:20181214T234800Z
UID:8321-1544963400-1544963400@voiceofhopeokc.org
SUMMARY:Excercise Class
DESCRIPTION:Join our exercise class every Sundays at 12:30pm.
URL:https://voiceofhopeokc.org/event/excercise-class/
LOCATION:Voice of Hope SDA Church\, 3300 NE 23rd St.\, Oklahoma City\, OK\, 73121\, United States
END:VEVENT
BEGIN:VEVENT
DTSTART;TZID=UTC:20181216T100000
DTEND;TZID=UTC:20181216T100000
DTSTAMP:20260423T234251
CREATED:20180901T043352Z
LAST-MODIFIED:20181214T235042Z
UID:8087-1544954400-1544954400@voiceofhopeokc.org
SUMMARY:Church business meeting
DESCRIPTION:The church business meeting will begin promptly at 10am.
URL:https://voiceofhopeokc.org/event/church-business-meeting/
LOCATION:Voice of Hope SDA Church\, 3300 NE 23rd St.\, Oklahoma City\, OK\, 73121\, United States
END:VEVENT
BEGIN:VEVENT
DTSTART;TZID=UTC:20181215T000000
DTEND;TZID=UTC:20181215T000000
DTSTAMP:20260423T234251
CREATED:20181203T151945Z
LAST-MODIFIED:20181203T152111Z
UID:8358-1544832000-1544832000@voiceofhopeokc.org
SUMMARY:Bake Sale
DESCRIPTION:PATHFINDERS ARE HAVING A BAKE SALE! We will have a variety of desserts available for purchase. We will have samples as well as order forms on 12/1/18. We will begin taking orders 12/1/18. All orders must be placed by 12/15/18. Please support the VOH Eagles!!!
URL:https://voiceofhopeokc.org/event/bake-sale/
LOCATION:Voice of Hope SDA Church\, 3300 NE 23rd St.\, Oklahoma City\, OK\, 73121\, United States
END:VEVENT
BEGIN:VEVENT
DTSTART;VALUE=DATE:20181207
DTEND;VALUE=DATE:20181210
DTSTAMP:20260423T234251
CREATED:20171202T032809Z
LAST-MODIFIED:20181027T021652Z
UID:8250-1544140800-1544399999@voiceofhopeokc.org
SUMMARY:Singles Enrichment Weekend
DESCRIPTION:The Annual Singles Enrichment Weekend will be held on December 7th – 9th 2018 in New Orleans\, LA. Please contact Sister Patricia Collins for more information.
URL:https://voiceofhopeokc.org/event/singles-enrichment-weekend/
LOCATION:OK
END:VEVENT
BEGIN:VEVENT
DTSTART;TZID=UTC:20181201T183000
DTEND;TZID=UTC:20181201T220000
DTSTAMP:20260423T234251
CREATED:20160319T032718Z
LAST-MODIFIED:20181112T065126Z
UID:8091-1543689000-1543701600@voiceofhopeokc.org
SUMMARY:Youth Day
DESCRIPTION:Youth day will be held on December 1st. We will be having a basketball tournament that evening. All are welcome to come watch or join in. \nThere will be a cash prize of $200.00.Teams of 5 will cost 25.00 to register. The cost for ALL spectators\, 4 years and older\, will be $3.00.   \nIf you are interested in being a referee\, helping with the take down and set up of the gym or\nhave any questions please see Amanda Buchanan.
URL:https://voiceofhopeokc.org/event/youth-day/
LOCATION:Voice of Hope SDA Church\, 3300 NE 23rd St.\, Oklahoma City\, OK\, 73121\, United States
END:VEVENT
BEGIN:VEVENT
DTSTART;TZID=UTC:20181201T140000
DTEND;TZID=UTC:20181201T150000
DTSTAMP:20260423T234251
CREATED:20181001T135553Z
LAST-MODIFIED:20181126T155539Z
UID:8328-1543672800-1543676400@voiceofhopeokc.org
SUMMARY:SDA 101
DESCRIPTION:
URL:https://voiceofhopeokc.org/event/sda-101/
LOCATION:Voice of Hope SDA Church\, 3300 NE 23rd St.\, Oklahoma City\, OK\, 73121\, United States
END:VEVENT
BEGIN:VEVENT
DTSTART;TZID=UTC:20181127T180000
DTEND;TZID=UTC:20181127T190000
DTSTAMP:20260423T234251
CREATED:20180821T145538Z
LAST-MODIFIED:20181126T154942Z
UID:8290-1543341600-1543345200@voiceofhopeokc.org
SUMMARY:Alcoholics Anonymous Meeting
DESCRIPTION:We’re having an Alcoholics Anonymous Meeting every Tuesday at 6:00pm. Please feel free to share this with anyone who would benefit from this meeting.
URL:https://voiceofhopeokc.org/event/alcoholics-anonymous-meeting/
LOCATION:Voice of Hope SDA Church\, 3300 NE 23rd St.\, Oklahoma City\, OK\, 73121\, United States
END:VEVENT
BEGIN:VEVENT
DTSTART;TZID=UTC:20181118T103000
DTEND;TZID=UTC:20181118T103000
DTSTAMP:20260423T234251
CREATED:20181112T064601Z
LAST-MODIFIED:20181112T064601Z
UID:8353-1542537000-1542537000@voiceofhopeokc.org
SUMMARY:Dream Session
DESCRIPTION:We will be having our first Dream Session as we begin planning for 2019. All church members and ministry teams are invited to attend and participate.
URL:https://voiceofhopeokc.org/event/dream-session/
LOCATION:OK
END:VEVENT
BEGIN:VEVENT
DTSTART;TZID=UTC:20181028T100000
DTEND;TZID=UTC:20181028T100000
DTSTAMP:20260423T234251
CREATED:20180922T014341Z
LAST-MODIFIED:20181027T020643Z
UID:8319-1540720800-1540720800@voiceofhopeokc.org
SUMMARY:Church Board of Directors Meeting
DESCRIPTION:
URL:https://voiceofhopeokc.org/event/church-board-of-directors-meeting/
LOCATION:Voice of Hope SDA Church\, 3300 NE 23rd St.\, Oklahoma City\, OK\, 73121\, United States
END:VEVENT
BEGIN:VEVENT
DTSTART;TZID=UTC:20181027T133000
DTEND;TZID=UTC:20181027T143000
DTSTAMP:20260423T234251
CREATED:20181015T151453Z
LAST-MODIFIED:20181015T151541Z
UID:8344-1540647000-1540650600@voiceofhopeokc.org
SUMMARY:Ministry Fair Day
DESCRIPTION:Stop by our ministry fair day right after the worship service on October 27\, 2018.
URL:https://voiceofhopeokc.org/event/ministry-fair-day/
LOCATION:Voice of Hope SDA Church\, 3300 NE 23rd St.\, Oklahoma City\, OK\, 73121\, United States
END:VEVENT
BEGIN:VEVENT
DTSTART;TZID=UTC:20181021T120000
DTEND;TZID=UTC:20181021T160000
DTSTAMP:20260423T234251
CREATED:20181015T151307Z
LAST-MODIFIED:20181015T151307Z
UID:8341-1540123200-1540137600@voiceofhopeokc.org
SUMMARY:Fish Fry
DESCRIPTION:
URL:https://voiceofhopeokc.org/event/fish-fry/
LOCATION:Arcadia Lake\, OK\, United States
END:VEVENT
BEGIN:VEVENT
DTSTART;TZID=UTC:20180928T190000
DTEND;TZID=UTC:20181006T200000
DTSTAMP:20260423T234251
CREATED:20170721T022627Z
LAST-MODIFIED:20190722T004056Z
UID:8230-1538161200-1538856000@voiceofhopeokc.org
SUMMARY:Fall Revival - Building Strong Families
DESCRIPTION:You’re invited to a special “Building Strong Families” Fall Revival from Sept. 28th – Oct. 6th 2018. You won’t want to miss out on this exciting and life-changing series! Bring your family and friends! \nTime: 7pm – 8pm (No meetings on Monday\, Tuesday and Thursday) \nBuilding Strong Families Through Health Part 1 (PDF) \nBuilding Strong Families Through Health Part 2 (PDF)
URL:https://voiceofhopeokc.org/event/fall-revival-building-strong-families/
LOCATION:Voice of Hope SDA Church\, 3300 NE 23rd St.\, Oklahoma City\, OK\, 73121\, United States
END:VEVENT
BEGIN:VEVENT
DTSTART;TZID=UTC:20180924T173000
DTEND;TZID=UTC:20180924T173000
DTSTAMP:20260423T234251
CREATED:20180922T013901Z
LAST-MODIFIED:20180922T013901Z
UID:8317-1537810200-1537810200@voiceofhopeokc.org
SUMMARY:Family Walk Time
DESCRIPTION:Join us for family walk time every Mondays and Wednesdays!
URL:https://voiceofhopeokc.org/event/family-walk-time/
LOCATION:Voice of Hope SDA Church\, 3300 NE 23rd St.\, Oklahoma City\, OK\, 73121\, United States
END:VEVENT
BEGIN:VEVENT
DTSTART;TZID=UTC:20180923T070000
DTEND;TZID=UTC:20180923T143000
DTSTAMP:20260423T234251
CREATED:20180901T044357Z
LAST-MODIFIED:20180901T044357Z
UID:8309-1537686000-1537713000@voiceofhopeokc.org
SUMMARY:Garage sale
DESCRIPTION:Women’s Ministries is organizing a garage sale on September 23rd\, from 7:00am to 2:30 pm. If you are interested in participating in selling items\, donating items\, volunteering to help set up\, Contact Sister Carol Berryhill no later than Friday\, September 7. A meeting will be held September 9 th at 11:00 am at VOH for the people that are participating. Lunch will be served.
URL:https://voiceofhopeokc.org/event/garage-sale/
LOCATION:Voice of Hope SDA Church\, 3300 NE 23rd St.\, Oklahoma City\, OK\, 73121\, United States
END:VEVENT
BEGIN:VEVENT
DTSTART;TZID=UTC:20180915T140000
DTEND;TZID=UTC:20180915T140000
DTSTAMP:20260423T234251
CREATED:20180821T150556Z
LAST-MODIFIED:20180901T043854Z
UID:8295-1537020000-1537020000@voiceofhopeokc.org
SUMMARY:Pathfinders
DESCRIPTION:Pathfinders will resume on Sept. 15 at 2pm. Please see Sis. Ariel Overstreet to register your children by Friday Sept. 7th.
URL:https://voiceofhopeokc.org/event/pathfinders/
LOCATION:Voice of Hope SDA Church\, 3300 NE 23rd St.\, Oklahoma City\, OK\, 73121\, United States
END:VEVENT
BEGIN:VEVENT
DTSTART;TZID=UTC:20180909T140000
DTEND;TZID=UTC:20180909T140000
DTSTAMP:20260423T234251
CREATED:20180901T043647Z
LAST-MODIFIED:20180901T043647Z
UID:8305-1536501600-1536501600@voiceofhopeokc.org
SUMMARY:Ushers meeting
DESCRIPTION:ATTENTION ALL USHERS: Please plan to attend our ushers meeting on September 9 th at 2 PM. Your attendance is very important.
URL:https://voiceofhopeokc.org/event/ushers-meeting/
LOCATION:Voice of Hope SDA Church\, 3300 NE 23rd St.\, Oklahoma City\, OK\, 73121\, United States
END:VEVENT
BEGIN:VEVENT
DTSTART;TZID=UTC:20180905T180000
DTEND;TZID=UTC:20180905T200000
DTSTAMP:20260423T234251
CREATED:20180821T144047Z
LAST-MODIFIED:20180821T144047Z
UID:8286-1536170400-1536177600@voiceofhopeokc.org
SUMMARY:Active Shooter Presentation by Oklahoma Homeland Security
DESCRIPTION:We will be hosting an Active Shooter Presentation by the Oklahoma Homeland Security. Come by to learn more about this crucial topic\, and be sure to spread the word.
URL:https://voiceofhopeokc.org/event/active-shooter-presentation-by-oklahoma-homeland-security/
LOCATION:Voice of Hope SDA Church\, 3300 NE 23rd St.\, Oklahoma City\, OK\, 73121\, United States
END:VEVENT
BEGIN:VEVENT
DTSTART;TZID=UTC:20180902T120000
DTEND;TZID=UTC:20180902T120000
DTSTAMP:20260423T234251
CREATED:20180821T150242Z
LAST-MODIFIED:20180821T162842Z
UID:8292-1535889600-1535889600@voiceofhopeokc.org
SUMMARY:Sabbath School Picnic
DESCRIPTION:You’re invited to join us for a special Sabbath School Picnic on September 2\, 2018 at the Midwest City Regional Park
URL:https://voiceofhopeokc.org/event/sabbath-school-picnic/
LOCATION:Midwest City Regional Park
END:VEVENT
BEGIN:VEVENT
DTSTART;TZID=UTC:20180825T173000
DTEND;TZID=UTC:20180825T173000
DTSTAMP:20260423T234251
CREATED:20180821T143244Z
LAST-MODIFIED:20180821T174744Z
UID:8283-1535218200-1535218200@voiceofhopeokc.org
SUMMARY:Religious Liberty and Public Affairs Seminar
DESCRIPTION:You’re invited to join us for a seminar on Religious Liberty and Public Affairs. \nPresenter: Pastor Stephen Brooks\, Executive Secretary of the Southwest Region Conference
URL:https://voiceofhopeokc.org/event/religious-liberty-and-public-affairs-seminar/
LOCATION:Voice of Hope SDA Church\, 3300 NE 23rd St.\, Oklahoma City\, OK\, 73121\, United States
CATEGORIES:Weekly Church Events
END:VEVENT
BEGIN:VEVENT
DTSTART;TZID=UTC:20180825T113000
DTEND;TZID=UTC:20180825T130000
DTSTAMP:20260423T234251
CREATED:20180821T142307Z
LAST-MODIFIED:20180821T143407Z
UID:8279-1535196600-1535202000@voiceofhopeokc.org
SUMMARY:This Sabbath - Guest Speaker: Pastor Stephen Brooks
DESCRIPTION:Guest Speaker: Pastor Stephen Brooks\, Executive Secretary of the Southwest Region Conference
URL:https://voiceofhopeokc.org/event/this-sabbath/
LOCATION:Voice of Hope SDA Church\, 3300 NE 23rd St.\, Oklahoma City\, OK\, 73121\, United States
END:VEVENT
BEGIN:VEVENT
DTSTART;VALUE=DATE:20180323
DTEND;VALUE=DATE:20180326
DTSTAMP:20260423T234251
CREATED:20180115T213723Z
LAST-MODIFIED:20180115T213723Z
UID:8264-1521763200-1522022399@voiceofhopeokc.org
SUMMARY:Marriage Retreat
DESCRIPTION:Marriage Retreat  \nNon-refundable deposit $50\, deadline Jan. 15. \nDate: March 23-25\, 2018 in Corpus Christi\, TX.  \nSee bulletin board for further information.
URL:https://voiceofhopeokc.org/event/marriage-retreat/
LOCATION:OK
END:VEVENT
BEGIN:VEVENT
DTSTART;VALUE=DATE:20180309
DTEND;VALUE=DATE:20180312
DTSTAMP:20260423T234251
CREATED:20180115T212225Z
LAST-MODIFIED:20180115T213019Z
UID:8260-1520553600-1520812799@voiceofhopeokc.org
SUMMARY:Blessed Indeed Hattitude Women's Conference
DESCRIPTION:Blessed Indeed Hattitude Women’s Conference \nMarch 9-11\, 2018 Marriott Sugar Land Town Square Sugar Land\, TX. \nEarly registration (until 1/31/18): Adults $65 / Teens $60 \nRegular registration (Begins Feb. 1): Adults $80 / Teens $75 \nCheck the bulletin board or for more information contact: Sister Carol Berryhill Women’s Ministry leader.
URL:https://voiceofhopeokc.org/event/blessed-indeed-hattitude-womens-conference/
LOCATION:Marriott Sugar Land Town Square\, Sugar Land\, TX\, United States
CATEGORIES:Women's Ministry
END:VEVENT
BEGIN:VEVENT
DTSTART;TZID=UTC:20171230T080000
DTEND;TZID=UTC:20171231T220000
DTSTAMP:20260423T234251
CREATED:20171202T032551Z
LAST-MODIFIED:20171202T032551Z
UID:8248-1514620800-1514757600@voiceofhopeokc.org
SUMMARY:Youth Lock-in
DESCRIPTION:AYM: Calling all Youth and Young Adults! It’s that time again. The youth\nlock-in will be this December 30th at 10 pm to December 31st 10 am.
URL:https://voiceofhopeokc.org/event/youth-lock-in/
LOCATION:Voice of Hope SDA Church\, 3300 NE 23rd St.\, Oklahoma City\, OK\, 73121\, United States
END:VEVENT
BEGIN:VEVENT
DTSTART;TZID=UTC:20171215T080000
DTEND;TZID=UTC:20171215T150000
DTSTAMP:20260423T234251
CREATED:20171202T033321Z
LAST-MODIFIED:20171202T033321Z
UID:8255-1513324800-1513350000@voiceofhopeokc.org
SUMMARY:Free Eye Clinic
DESCRIPTION:Better Vision Better Hope is offering a FREE EYE CLINIC\, Friday\, December 15 at Parkview Adventist Academy. Doors open at 8:00 am until capacity is full. First come\, first served. Services being offered: eye exans\, glasses\, cataract evaluations and diabetes and glaucoma assessments. Contact the school 405-427- 6525.
URL:https://voiceofhopeokc.org/event/free-eye-clinic/
LOCATION:Parkview Adventist Academy\, 4201 N Martin Luther King Ave\, 4201 N Martin Luther King Ave\,  Oklahoma City\,\, 73111\, United States
END:VEVENT
BEGIN:VEVENT
DTSTART;TZID=UTC:20171209T113000
DTEND;TZID=UTC:20171209T133000
DTSTAMP:20260423T234251
CREATED:20171202T032248Z
LAST-MODIFIED:20171202T032248Z
UID:8246-1512819000-1512826200@voiceofhopeokc.org
SUMMARY:Oklahoma Accordion Club Band
DESCRIPTION:Oklahoma Accordion Club Band: Conductor Dick Albreski\, Presents\nSpecial Music on December 9\, 2017 at Voice of Hope during Worship Service.
URL:https://voiceofhopeokc.org/event/oklahoma-accordion-club-band/
LOCATION:Voice of Hope SDA Church\, 3300 NE 23rd St.\, Oklahoma City\, OK\, 73121\, United States
CATEGORIES:Weekly Church Events
END:VEVENT
BEGIN:VEVENT
DTSTART;TZID=UTC:20171202T173000
DTEND;TZID=UTC:20171202T193000
DTSTAMP:20260423T234251
CREATED:20171202T032017Z
LAST-MODIFIED:20171202T032017Z
UID:8244-1512235800-1512243000@voiceofhopeokc.org
SUMMARY:Pathfinders Chili Cook-off
DESCRIPTION:Join the Pathfinders for a Chili Cook-off event. Starting time is at 5:30 pm. If submitting chili\, please bring your pot at 5 pm – 5:20 pm.  \nCharging $5 at the door (not including those in the competition).  \n1st place winner gets a prize!
URL:https://voiceofhopeokc.org/event/pathfinders-chili-cook-off/
LOCATION:Voice of Hope SDA Church\, 3300 NE 23rd St.\, Oklahoma City\, OK\, 73121\, United States
END:VEVENT
BEGIN:VEVENT
DTSTART;TZID=UTC:20170813T100000
DTEND;TZID=UTC:20170813T133000
DTSTAMP:20260423T234251
CREATED:20160820T010324Z
LAST-MODIFIED:20170713T224839Z
UID:8155-1502618400-1502631000@voiceofhopeokc.org
SUMMARY:Children’s Health Expo
DESCRIPTION:
URL:https://voiceofhopeokc.org/event/childrens-health-expo/
LOCATION:Voice of Hope SDA Church\, 3300 NE 23rd St.\, Oklahoma City\, OK\, 73121\, United States
END:VEVENT
BEGIN:VEVENT
DTSTART;TZID=UTC:20170729T090000
DTEND;TZID=UTC:20170729T130000
DTSTAMP:20260423T234251
CREATED:20170721T022351Z
LAST-MODIFIED:20170721T022351Z
UID:8228-1501318800-1501333200@voiceofhopeokc.org
SUMMARY:C.I.A. Sabbath
DESCRIPTION:
URL:https://voiceofhopeokc.org/event/c-i-a-sabbath/
LOCATION:Voice of Hope SDA Church\, 3300 NE 23rd St.\, Oklahoma City\, OK\, 73121\, United States
END:VEVENT
BEGIN:VEVENT
DTSTART;VALUE=DATE:20170723
DTEND;VALUE=DATE:20170724
DTSTAMP:20260423T234251
CREATED:20170721T023103Z
LAST-MODIFIED:20170721T023205Z
UID:8232-1500768000-1500854399@voiceofhopeokc.org
SUMMARY:Youth Summer Trip
DESCRIPTION:ATTENTION Youth!!!  Join us for our Youth Summer Trip on Sunday\, July 23\, as we go to Six Flags Over Texas. \nCost is $45 per person.
URL:https://voiceofhopeokc.org/event/youth-summer-trip/
LOCATION:Six Flags
END:VEVENT
BEGIN:VEVENT
DTSTART;TZID=UTC:20170305T120000
DTEND;TZID=UTC:20170305T150000
DTSTAMP:20260423T234251
CREATED:20170302T135708Z
LAST-MODIFIED:20170302T135839Z
UID:8205-1488715200-1488726000@voiceofhopeokc.org
SUMMARY:Blood Drive
DESCRIPTION:Blood Drive: Voice of Hope will have a blood drive on Sunday\, March 5 from 12:00 pm\nto 3:00 pm.  All participants will receive a free mini health check which will include\nassessment of blood pressure\, pulse\, and the following labs: HgbA1c\, iron\, blood type\,\nsickle cell\, and cholesterol levels. Lab results will be mailed to you.  Please see Sister\nKeema Kinchen for any additional information.
URL:https://voiceofhopeokc.org/event/blood-drive/
LOCATION:Voice of Hope SDA Church\, 3300 NE 23rd St.\, Oklahoma City\, OK\, 73121\, United States
CATEGORIES:Health Ministries
END:VEVENT
END:VCALENDAR