BEGIN:VCALENDAR
VERSION:2.0
PRODID:-//Voice of Hope SDA Church - Oklahoma City, OK - ECPv6.15.1.1//NONSGML v1.0//EN
CALSCALE:GREGORIAN
METHOD:PUBLISH
X-WR-CALNAME:Voice of Hope SDA Church - Oklahoma City, OK
X-ORIGINAL-URL:https://voiceofhopeokc.org
X-WR-CALDESC:Events for Voice of Hope SDA Church - Oklahoma City, OK
REFRESH-INTERVAL;VALUE=DURATION:PT1H
X-Robots-Tag:noindex
X-PUBLISHED-TTL:PT1H
BEGIN:VTIMEZONE
TZID:UTC
BEGIN:STANDARD
TZOFFSETFROM:+0000
TZOFFSETTO:+0000
TZNAME:UTC
DTSTART:20150101T000000
END:STANDARD
END:VTIMEZONE
BEGIN:VEVENT
DTSTART;TZID=UTC:20171209T113000
DTEND;TZID=UTC:20171209T133000
DTSTAMP:20260425T163441
CREATED:20171202T032248Z
LAST-MODIFIED:20171202T032248Z
UID:8246-1512819000-1512826200@voiceofhopeokc.org
SUMMARY:Oklahoma Accordion Club Band
DESCRIPTION:Oklahoma Accordion Club Band: Conductor Dick Albreski\, Presents\nSpecial Music on December 9\, 2017 at Voice of Hope during Worship Service.
URL:https://voiceofhopeokc.org/event/oklahoma-accordion-club-band/
LOCATION:Voice of Hope SDA Church\, 3300 NE 23rd St.\, Oklahoma City\, OK\, 73121\, United States
CATEGORIES:Weekly Church Events
END:VEVENT
BEGIN:VEVENT
DTSTART;TZID=UTC:20171202T173000
DTEND;TZID=UTC:20171202T193000
DTSTAMP:20260425T163441
CREATED:20171202T032017Z
LAST-MODIFIED:20171202T032017Z
UID:8244-1512235800-1512243000@voiceofhopeokc.org
SUMMARY:Pathfinders Chili Cook-off
DESCRIPTION:Join the Pathfinders for a Chili Cook-off event. Starting time is at 5:30 pm. If submitting chili\, please bring your pot at 5 pm – 5:20 pm.  \nCharging $5 at the door (not including those in the competition).  \n1st place winner gets a prize!
URL:https://voiceofhopeokc.org/event/pathfinders-chili-cook-off/
LOCATION:Voice of Hope SDA Church\, 3300 NE 23rd St.\, Oklahoma City\, OK\, 73121\, United States
END:VEVENT
BEGIN:VEVENT
DTSTART;TZID=UTC:20170813T100000
DTEND;TZID=UTC:20170813T133000
DTSTAMP:20260425T163441
CREATED:20160820T010324Z
LAST-MODIFIED:20170713T224839Z
UID:8155-1502618400-1502631000@voiceofhopeokc.org
SUMMARY:Children’s Health Expo
DESCRIPTION:
URL:https://voiceofhopeokc.org/event/childrens-health-expo/
LOCATION:Voice of Hope SDA Church\, 3300 NE 23rd St.\, Oklahoma City\, OK\, 73121\, United States
END:VEVENT
BEGIN:VEVENT
DTSTART;TZID=UTC:20170729T090000
DTEND;TZID=UTC:20170729T130000
DTSTAMP:20260425T163441
CREATED:20170721T022351Z
LAST-MODIFIED:20170721T022351Z
UID:8228-1501318800-1501333200@voiceofhopeokc.org
SUMMARY:C.I.A. Sabbath
DESCRIPTION:
URL:https://voiceofhopeokc.org/event/c-i-a-sabbath/
LOCATION:Voice of Hope SDA Church\, 3300 NE 23rd St.\, Oklahoma City\, OK\, 73121\, United States
END:VEVENT
BEGIN:VEVENT
DTSTART;VALUE=DATE:20170723
DTEND;VALUE=DATE:20170724
DTSTAMP:20260425T163441
CREATED:20170721T023103Z
LAST-MODIFIED:20170721T023205Z
UID:8232-1500768000-1500854399@voiceofhopeokc.org
SUMMARY:Youth Summer Trip
DESCRIPTION:ATTENTION Youth!!!  Join us for our Youth Summer Trip on Sunday\, July 23\, as we go to Six Flags Over Texas. \nCost is $45 per person.
URL:https://voiceofhopeokc.org/event/youth-summer-trip/
LOCATION:Six Flags
END:VEVENT
BEGIN:VEVENT
DTSTART;TZID=UTC:20170305T120000
DTEND;TZID=UTC:20170305T150000
DTSTAMP:20260425T163441
CREATED:20170302T135708Z
LAST-MODIFIED:20170302T135839Z
UID:8205-1488715200-1488726000@voiceofhopeokc.org
SUMMARY:Blood Drive
DESCRIPTION:Blood Drive: Voice of Hope will have a blood drive on Sunday\, March 5 from 12:00 pm\nto 3:00 pm.  All participants will receive a free mini health check which will include\nassessment of blood pressure\, pulse\, and the following labs: HgbA1c\, iron\, blood type\,\nsickle cell\, and cholesterol levels. Lab results will be mailed to you.  Please see Sister\nKeema Kinchen for any additional information.
URL:https://voiceofhopeokc.org/event/blood-drive/
LOCATION:Voice of Hope SDA Church\, 3300 NE 23rd St.\, Oklahoma City\, OK\, 73121\, United States
CATEGORIES:Health Ministries
END:VEVENT
BEGIN:VEVENT
DTSTART;TZID=UTC:20170304T153000
DTEND;TZID=UTC:20170304T183000
DTSTAMP:20260425T163441
CREATED:20170302T140321Z
LAST-MODIFIED:20170302T140321Z
UID:8208-1488641400-1488652200@voiceofhopeokc.org
SUMMARY:Family Ministries Leaders Training Seminar
DESCRIPTION:The VOH Family Ministries department invites you to join the Oklahoma Area Family Ministries Leaders Training Seminar.
URL:https://voiceofhopeokc.org/event/family-ministries-leaders-training-seminar/
LOCATION:Voice of Hope SDA Church\, 3300 NE 23rd St.\, Oklahoma City\, OK\, 73121\, United States
CATEGORIES:Family Ministries
END:VEVENT
BEGIN:VEVENT
DTSTART;TZID=UTC:20170122T120000
DTEND;TZID=UTC:20170122T150000
DTSTAMP:20260425T163441
CREATED:20170107T154618Z
LAST-MODIFIED:20170107T154632Z
UID:8195-1485086400-1485097200@voiceofhopeokc.org
SUMMARY:Health Ministries - Blood Drive
DESCRIPTION:Health Ministries: There will be a blood drive at VOH on Sunday 1/22/2017 from 12:00 pm to 3:00 pm. All participants will receive a free mini health check which will include assessment of blood pressure\, pulse\, and the following labs: HgbA1c\, iron\, blood type\, sickle cell\, and cholesterol levels. Lab results will be mailed to you. \nPlease see Sister Keema Kincen for any additional information.
URL:https://voiceofhopeokc.org/event/health-ministries-blood-drive/
LOCATION:Voice of Hope SDA Church\, 3300 NE 23rd St.\, Oklahoma City\, OK\, 73121\, United States
CATEGORIES:Health Ministries
END:VEVENT
BEGIN:VEVENT
DTSTART;TZID=UTC:20170114T143000
DTEND;TZID=UTC:20170114T163000
DTSTAMP:20260425T163441
CREATED:20170107T153958Z
LAST-MODIFIED:20170107T153958Z
UID:8193-1484404200-1484411400@voiceofhopeokc.org
SUMMARY:Leadership 101 Seminar
DESCRIPTION:Join us for the Leadership 101 Seminar at 2:30 pm on January 14\, 2017.
URL:https://voiceofhopeokc.org/event/leadership-101-seminar/
LOCATION:Voice of Hope SDA Church\, 3300 NE 23rd St.\, Oklahoma City\, OK\, 73121\, United States
CATEGORIES:Weekly Church Events
END:VEVENT
BEGIN:VEVENT
DTSTART;TZID=UTC:20170107T080000
DTEND;TZID=UTC:20170107T170000
DTSTAMP:20260425T163441
CREATED:20170107T152859Z
LAST-MODIFIED:20170107T152859Z
UID:8187-1483776000-1483808400@voiceofhopeokc.org
SUMMARY:Church Cancelled - Inclement weather
DESCRIPTION:Due to inclement weather\, the Voice of Hope will not be having church services on January 7\, 2017. \nPlease help me in spreading the word to our members. \nThanks!
URL:https://voiceofhopeokc.org/event/church-cancelled-inclement-weather/
LOCATION:Voice of Hope SDA Church\, 3300 NE 23rd St.\, Oklahoma City\, OK\, 73121\, United States
CATEGORIES:Weekly Church Events
END:VEVENT
BEGIN:VEVENT
DTSTART;TZID=UTC:20161209T190000
DTEND;TZID=UTC:20161210T220000
DTSTAMP:20260425T163441
CREATED:20161127T211020Z
LAST-MODIFIED:20161127T211020Z
UID:8173-1481310000-1481407200@voiceofhopeokc.org
SUMMARY:SWRC Singles Enrichment Weekend
DESCRIPTION:Mark your calendar for the SWRC Singles Enrichment Weekend!  Here’s what’s happening: \nDecember 9th \n\nFriday Evening Vespers at Voice of Hope SDA Church\n\nDecember 10th \n\nSabbath morning service at 11:00 am. Guest Speaker Pastor Timothy Lee.\nBanquet and Ball in the evening.\n\nFor more information\, see Sister Kim Brown.
URL:https://voiceofhopeokc.org/event/swrgc-singles-enrichment-weekend/
LOCATION:Voice of Hope SDA Church\, 3300 NE 23rd St.\, Oklahoma City\, OK\, 73121\, United States
CATEGORIES:Weekly Church Events
END:VEVENT
BEGIN:VEVENT
DTSTART;TZID=UTC:20161202T190000
DTEND;TZID=UTC:20161202T200000
DTSTAMP:20260425T163441
CREATED:20161127T205930Z
LAST-MODIFIED:20161127T205930Z
UID:8171-1480705200-1480708800@voiceofhopeokc.org
SUMMARY:VOH Choir Rehearsal
DESCRIPTION:Calling all choir members!  Please be ready to meet for choir rehearsal on Friday\, December 2\, 2016.
URL:https://voiceofhopeokc.org/event/voh-choir-rehearsal/
LOCATION:Voice of Hope SDA Church\, 3300 NE 23rd St.\, Oklahoma City\, OK\, 73121\, United States
CATEGORIES:Weekly Church Events
END:VEVENT
BEGIN:VEVENT
DTSTART;TZID=UTC:20161103T190000
DTEND;TZID=UTC:20161103T220000
DTSTAMP:20260425T163441
CREATED:20161022T011629Z
LAST-MODIFIED:20181027T021209Z
UID:8165-1478199600-1478210400@voiceofhopeokc.org
SUMMARY:Fall Festival
DESCRIPTION:Parkview Adventist Academy presents their annual Fall Festival! Join us this coming November 3 rd from 7:00pm to 10:00pm for some family fun time. Don’t miss the annual chili cook-off\, bounce houses\, sand art good fellowship\, and so much more!  \n4201 N. Martin L. King Avenue
URL:https://voiceofhopeokc.org/event/fall-festival/
LOCATION:Parkview Adventist Academy\, 4201 N Martin Luther King Ave\, 4201 N Martin Luther King Ave\,  Oklahoma City\,\, 73111\, United States
END:VEVENT
BEGIN:VEVENT
DTSTART;TZID=UTC:20161007T080000
DTEND;TZID=UTC:20161009T170000
DTSTAMP:20260425T163441
CREATED:20160928T201202Z
LAST-MODIFIED:20160928T201202Z
UID:8162-1475827200-1476032400@voiceofhopeokc.org
SUMMARY:Family Ministry Weekend
DESCRIPTION:Our Family Ministry Weekend is from October 7 – 9\, 2016. For more information see flyers in foyer or see Sister Kim Brown.
URL:https://voiceofhopeokc.org/event/family-ministry-weekend/
LOCATION:Voice of Hope SDA Church\, 3300 NE 23rd St.\, Oklahoma City\, OK\, 73121\, United States
END:VEVENT
BEGIN:VEVENT
DTSTART;TZID=UTC:20160715T190000
DTEND;TZID=UTC:20160722T200000
DTSTAMP:20260425T163441
CREATED:20160624T202347Z
LAST-MODIFIED:20160630T225209Z
UID:8137-1468609200-1469217600@voiceofhopeokc.org
SUMMARY:Summer Revival 2016
DESCRIPTION:You are cordially invited to our Summer Revival that begins  July 15 – July 22\, 2016.  The time is 7:00 pm – 8:00 pm. \nNo meeting on Mondays and Thursdays.   Come and be blessed! \n \n 
URL:https://voiceofhopeokc.org/event/summer-revival-2016/
LOCATION:Voice of Hope SDA Church\, 3300 NE 23rd St.\, Oklahoma City\, OK\, 73121\, United States
END:VEVENT
BEGIN:VEVENT
DTSTART;TZID=UTC:20160626T160000
DTEND;TZID=UTC:20160630T203000
DTSTAMP:20260425T163441
CREATED:20160530T072115Z
LAST-MODIFIED:20160530T072417Z
UID:8133-1466956800-1467318600@voiceofhopeokc.org
SUMMARY:Vacation Bible School
DESCRIPTION:We hope to see all our children\, neighborhood children\, and any precious child you can bring. \nThe theme is “Deep Sea Discovery”. “God is With Me Wherever I Go”! \nAges:  \n1-13 \nTimes: \nSunday 4:00 pm-6:30 pm. \nMonday thru Thursday 6:00 pm – 8:30 pm. \n 
URL:https://voiceofhopeokc.org/event/vacation-bible-school/
LOCATION:Voice of Hope SDA Church\, 3300 NE 23rd St.\, Oklahoma City\, OK\, 73121\, United States
END:VEVENT
BEGIN:VEVENT
DTSTART;TZID=UTC:20160520T190000
DTEND;TZID=UTC:20160521T170000
DTSTAMP:20260425T163441
CREATED:20160416T003335Z
LAST-MODIFIED:20160518T175118Z
UID:8116-1463770800-1463850000@voiceofhopeokc.org
SUMMARY:Voice of Hope SDA Church Grand Opening
DESCRIPTION:Join us on this Blessed day\, as we will have our very first worship service in our new church building. \n  \n \n \n 
URL:https://voiceofhopeokc.org/event/voice-of-hope-sda-church-grand-opening/
LOCATION:Voice of Hope SDA Church\, 3300 NE 23rd St.\, Oklahoma City\, OK\, 73121\, United States
END:VEVENT
BEGIN:VEVENT
DTSTART;TZID=UTC:20160423T163000
DTEND;TZID=UTC:20160423T173000
DTSTAMP:20260425T163441
CREATED:20160416T002323Z
LAST-MODIFIED:20160416T002738Z
UID:8113-1461429000-1461432600@voiceofhopeokc.org
SUMMARY:Bible Study Training Class
DESCRIPTION:Learn How to give a bible study.  This training class will equip you with all the essential instructions on how to share the word of God.
URL:https://voiceofhopeokc.org/event/bible-study-training-class/
LOCATION:Voice of Hope SDA Church\, 3300 NE 23rd St.\, Oklahoma City\, OK\, 73121\, United States
END:VEVENT
BEGIN:VEVENT
DTSTART;TZID=UTC:20160416T180000
DTEND;TZID=UTC:20160416T190000
DTSTAMP:20260425T163441
CREATED:20160412T194409Z
LAST-MODIFIED:20160412T194409Z
UID:8111-1460829600-1460833200@voiceofhopeokc.org
SUMMARY:Breast Cancer 101 Workshop
DESCRIPTION:Women’s Ministries: There will be a Breast Cancer 101 workshop presented by the Susan G. Komen Foundation on April 16 at 6:00 pm at 1391 N. Midwest West Blvd.  Please come out to support and learn more about Breast Cancer. \nContact Sister Nancy Dickerson for more details
URL:https://voiceofhopeokc.org/event/breast-cancer-101-workshop/
LOCATION:OK
CATEGORIES:Weekly Church Events
END:VEVENT
BEGIN:VEVENT
DTSTART;TZID=UTC:20160411T190000
DTEND;TZID=UTC:20160415T200000
DTSTAMP:20260425T163441
CREATED:20160412T194728Z
LAST-MODIFIED:20160412T194728Z
UID:8112-1460401200-1460750400@voiceofhopeokc.org
SUMMARY:Spring Week of Prayer
DESCRIPTION:
URL:https://voiceofhopeokc.org/event/spring-week-of-prayer/
LOCATION:Parkview Adventist Academy\, 4201 N Martin Luther King Ave\, 4201 N Martin Luther King Ave\,  Oklahoma City\,\, 73111\, United States
END:VEVENT
BEGIN:VEVENT
DTSTART;TZID=UTC:20160326T180000
DTEND;TZID=UTC:20160326T200000
DTSTAMP:20260425T163441
CREATED:20160319T032236Z
LAST-MODIFIED:20160319T032236Z
UID:8089-1459015200-1459022400@voiceofhopeokc.org
SUMMARY:AYS Movie Night
DESCRIPTION:AYS Will be having a movie night at Parkview Adventist Academy next week at 6 pm. Please come out and enjoy the movie. “God is NOT Dead”.
URL:https://voiceofhopeokc.org/event/ays-movie-night/
LOCATION:Parkview Adventist Academy\, 4201 N Martin Luther King Ave\, 4201 N Martin Luther King Ave\,  Oklahoma City\,\, 73111\, United States
CATEGORIES:AYS
END:VEVENT
BEGIN:VEVENT
DTSTART;TZID=UTC:20160116T080000
DTEND;TZID=UTC:20160116T170000
DTSTAMP:20260425T163441
CREATED:20151221T212823Z
LAST-MODIFIED:20151221T212844Z
UID:8026-1452931200-1452963600@voiceofhopeokc.org
SUMMARY:2016 Church Officers Convention & Consecration Service Meeting
DESCRIPTION:The 2016 Church Officers Convention & Consecration Service Meeting will be held at the World Harvest Outreach Seventh-day Adventist Church\, \nTo register go to this link: \nhttps://www.eventbrite.com/e/2016-swrgc=church-officers-convention-and-consecration-service- tickets-19493498579?aff=es2
URL:https://voiceofhopeokc.org/event/2016-church-officers-convention-consecration-service-meeting/
LOCATION:World Harvest Outreach Seventh-day Adventist Church\, 10800-A Scott Street\, Houston\, TX\, United States
END:VEVENT
BEGIN:VEVENT
DTSTART;TZID=UTC:20160106T080000
DTEND;TZID=UTC:20160116T170000
DTSTAMP:20260425T163441
CREATED:20151221T213335Z
LAST-MODIFIED:20151221T213335Z
UID:8028-1452067200-1452963600@voiceofhopeokc.org
SUMMARY:Ten Days of Prayer
DESCRIPTION:
URL:https://voiceofhopeokc.org/event/ten-days-of-prayer/
LOCATION:OK
CATEGORIES:Weekly Church Events
END:VEVENT
BEGIN:VEVENT
DTSTART;TZID=UTC:20151111T180000
DTEND;TZID=UTC:20151111T190000
DTSTAMP:20260425T163441
CREATED:20151001T212441Z
LAST-MODIFIED:20151104T213625Z
UID:7761-1447264800-1447268400@voiceofhopeokc.org
SUMMARY:Pre-Prayer Meeting Supper
DESCRIPTION:You’re invited to join us every Wednesdays at 6:00pm for a delicious supper served prior to Prayer Meeting.
URL:https://voiceofhopeokc.org/event/pre-prayer-meeting-supper/
LOCATION:Voice of Hope SDA Church\, 3300 NE 23rd St.\, Oklahoma City\, OK\, 73121\, United States
CATEGORIES:Weekly Church Events
END:VEVENT
BEGIN:VEVENT
DTSTART;TZID=UTC:20151108T100000
DTEND;TZID=UTC:20151108T110000
DTSTAMP:20260425T163441
CREATED:20151104T213356Z
LAST-MODIFIED:20151104T213543Z
UID:8012-1446976800-1446980400@voiceofhopeokc.org
SUMMARY:Usher's Board Meeting
DESCRIPTION:
URL:https://voiceofhopeokc.org/event/ushers-board-meeting/
LOCATION:Voice of Hope SDA Church\, 3300 NE 23rd St.\, Oklahoma City\, OK\, 73121\, United States
END:VEVENT
BEGIN:VEVENT
DTSTART;TZID=UTC:20151108T080000
DTEND;TZID=UTC:20151108T170000
DTSTAMP:20260425T163441
CREATED:20151009T203739Z
LAST-MODIFIED:20151009T203941Z
UID:7927-1446969600-1447002000@voiceofhopeokc.org
SUMMARY:Pathfinders Hay Ride Trip
DESCRIPTION:Please join the Pathfinders on November 7 for a Hay Ride event. \nContact:  Sister Overstreet or Sister Talbott for additional information.
URL:https://voiceofhopeokc.org/event/pathfinders-hay-ride-trip/
LOCATION:OK
ATTACH;FMTTYPE=image/png:https://voiceofhopeokc.org/wp-content/uploads/2015/09/voh-logo.png
END:VEVENT
BEGIN:VEVENT
DTSTART;TZID=UTC:20151021T190000
DTEND;TZID=UTC:20151024T140000
DTSTAMP:20260425T163441
CREATED:20151009T202653Z
LAST-MODIFIED:20151009T202900Z
UID:7926-1445454000-1445695200@voiceofhopeokc.org
SUMMARY:Fall Week of Prayer Revival
DESCRIPTION:Fall Week of Prayer Revival will begin on Wednesday October 21st at 7:00 p.m. and continue nightly through Friday evening and a powerful conclusion during Sabbath Worship Service October 24th. Our guest speaker will be Pastor Helvius Thompson of Forth Worth\, TX.
URL:https://voiceofhopeokc.org/event/fall-week-of-prayer-revival/
LOCATION:Voice of Hope SDA Church\, 3300 NE 23rd St.\, Oklahoma City\, OK\, 73121\, United States
END:VEVENT
BEGIN:VEVENT
DTSTART;TZID=UTC:20151016T070000
DTEND;TZID=UTC:20151017T150000
DTSTAMP:20260425T163441
CREATED:20151009T202418Z
LAST-MODIFIED:20151009T202418Z
UID:7924-1444978800-1445094000@voiceofhopeokc.org
SUMMARY:Oklahoma Youth Federation
DESCRIPTION:Oklahoma Youth Federation will be next weekend in Midwest City. It will begin on Friday evening at the Voice of Hope church at 7:00 p.m. and will continue on Sabbath morning at the Douglas United Methodist Church at 208 S. Douglas Blvd.
URL:https://voiceofhopeokc.org/event/oklahoma-youth-federation/
LOCATION:Douglas United Methodist Church\, 208 S. Douglas Blvd\, Oklahoma City\, OK\, United States
END:VEVENT
BEGIN:VEVENT
DTSTART;TZID=UTC:20151014T190000
DTEND;TZID=UTC:20151014T200000
DTSTAMP:20260425T163441
CREATED:20151001T211128Z
LAST-MODIFIED:20151009T201549Z
UID:7757-1444849200-1444852800@voiceofhopeokc.org
SUMMARY:Community Bible Study
DESCRIPTION:Please join us every week for our Community Bible Study meeting.
URL:https://voiceofhopeokc.org/event/community-bible-study/
LOCATION:Voice of Hope SDA Church\, 3300 NE 23rd St.\, Oklahoma City\, OK\, 73121\, United States
CATEGORIES:Weekly Church Events
END:VEVENT
END:VCALENDAR