BEGIN:VCALENDAR
VERSION:2.0
PRODID:-//Voice of Hope SDA Church - Oklahoma City, OK - ECPv6.15.1.1//NONSGML v1.0//EN
CALSCALE:GREGORIAN
METHOD:PUBLISH
X-WR-CALNAME:Voice of Hope SDA Church - Oklahoma City, OK
X-ORIGINAL-URL:https://voiceofhopeokc.org
X-WR-CALDESC:Events for Voice of Hope SDA Church - Oklahoma City, OK
REFRESH-INTERVAL;VALUE=DURATION:PT1H
X-Robots-Tag:noindex
X-PUBLISHED-TTL:PT1H
BEGIN:VTIMEZONE
TZID:UTC
BEGIN:STANDARD
TZOFFSETFROM:+0000
TZOFFSETTO:+0000
TZNAME:UTC
DTSTART:20150101T000000
END:STANDARD
END:VTIMEZONE
BEGIN:VEVENT
DTSTART;TZID=UTC:20151014T190000
DTEND;TZID=UTC:20151014T200000
DTSTAMP:20260426T001136
CREATED:20151001T211128Z
LAST-MODIFIED:20151009T201549Z
UID:7757-1444849200-1444852800@voiceofhopeokc.org
SUMMARY:Community Bible Study
DESCRIPTION:Please join us every week for our Community Bible Study meeting.
URL:https://voiceofhopeokc.org/event/community-bible-study/
LOCATION:Voice of Hope SDA Church\, 3300 NE 23rd St.\, Oklahoma City\, OK\, 73121\, United States
CATEGORIES:Weekly Church Events
END:VEVENT
END:VCALENDAR