BEGIN:VCALENDAR
VERSION:2.0
PRODID:-//Voice of Hope SDA Church - Oklahoma City, OK - ECPv6.15.1.1//NONSGML v1.0//EN
CALSCALE:GREGORIAN
METHOD:PUBLISH
X-WR-CALNAME:Voice of Hope SDA Church - Oklahoma City, OK
X-ORIGINAL-URL:https://voiceofhopeokc.org
X-WR-CALDESC:Events for Voice of Hope SDA Church - Oklahoma City, OK
REFRESH-INTERVAL;VALUE=DURATION:PT1H
X-Robots-Tag:noindex
X-PUBLISHED-TTL:PT1H
BEGIN:VTIMEZONE
TZID:UTC
BEGIN:STANDARD
TZOFFSETFROM:+0000
TZOFFSETTO:+0000
TZNAME:UTC
DTSTART:20150101T000000
END:STANDARD
END:VTIMEZONE
BEGIN:VEVENT
DTSTART;TZID=UTC:20160106T080000
DTEND;TZID=UTC:20160116T170000
DTSTAMP:20260425T123023
CREATED:20151221T213335Z
LAST-MODIFIED:20151221T213335Z
UID:8028-1452067200-1452963600@voiceofhopeokc.org
SUMMARY:Ten Days of Prayer
DESCRIPTION:
URL:https://voiceofhopeokc.org/event/ten-days-of-prayer/
LOCATION:OK
CATEGORIES:Weekly Church Events
END:VEVENT
BEGIN:VEVENT
DTSTART;TZID=UTC:20151111T180000
DTEND;TZID=UTC:20151111T190000
DTSTAMP:20260425T123023
CREATED:20151001T212441Z
LAST-MODIFIED:20151104T213625Z
UID:7761-1447264800-1447268400@voiceofhopeokc.org
SUMMARY:Pre-Prayer Meeting Supper
DESCRIPTION:You’re invited to join us every Wednesdays at 6:00pm for a delicious supper served prior to Prayer Meeting.
URL:https://voiceofhopeokc.org/event/pre-prayer-meeting-supper/
LOCATION:Voice of Hope SDA Church\, 3300 NE 23rd St.\, Oklahoma City\, OK\, 73121\, United States
CATEGORIES:Weekly Church Events
END:VEVENT
BEGIN:VEVENT
DTSTART;TZID=UTC:20151108T100000
DTEND;TZID=UTC:20151108T110000
DTSTAMP:20260425T123023
CREATED:20151104T213356Z
LAST-MODIFIED:20151104T213543Z
UID:8012-1446976800-1446980400@voiceofhopeokc.org
SUMMARY:Usher's Board Meeting
DESCRIPTION:
URL:https://voiceofhopeokc.org/event/ushers-board-meeting/
LOCATION:Voice of Hope SDA Church\, 3300 NE 23rd St.\, Oklahoma City\, OK\, 73121\, United States
END:VEVENT
BEGIN:VEVENT
DTSTART;TZID=UTC:20151108T080000
DTEND;TZID=UTC:20151108T170000
DTSTAMP:20260425T123023
CREATED:20151009T203739Z
LAST-MODIFIED:20151009T203941Z
UID:7927-1446969600-1447002000@voiceofhopeokc.org
SUMMARY:Pathfinders Hay Ride Trip
DESCRIPTION:Please join the Pathfinders on November 7 for a Hay Ride event. \nContact:  Sister Overstreet or Sister Talbott for additional information.
URL:https://voiceofhopeokc.org/event/pathfinders-hay-ride-trip/
LOCATION:OK
ATTACH;FMTTYPE=image/png:https://voiceofhopeokc.org/wp-content/uploads/2015/09/voh-logo.png
END:VEVENT
BEGIN:VEVENT
DTSTART;TZID=UTC:20151021T190000
DTEND;TZID=UTC:20151024T140000
DTSTAMP:20260425T123023
CREATED:20151009T202653Z
LAST-MODIFIED:20151009T202900Z
UID:7926-1445454000-1445695200@voiceofhopeokc.org
SUMMARY:Fall Week of Prayer Revival
DESCRIPTION:Fall Week of Prayer Revival will begin on Wednesday October 21st at 7:00 p.m. and continue nightly through Friday evening and a powerful conclusion during Sabbath Worship Service October 24th. Our guest speaker will be Pastor Helvius Thompson of Forth Worth\, TX.
URL:https://voiceofhopeokc.org/event/fall-week-of-prayer-revival/
LOCATION:Voice of Hope SDA Church\, 3300 NE 23rd St.\, Oklahoma City\, OK\, 73121\, United States
END:VEVENT
BEGIN:VEVENT
DTSTART;TZID=UTC:20151016T070000
DTEND;TZID=UTC:20151017T150000
DTSTAMP:20260425T123023
CREATED:20151009T202418Z
LAST-MODIFIED:20151009T202418Z
UID:7924-1444978800-1445094000@voiceofhopeokc.org
SUMMARY:Oklahoma Youth Federation
DESCRIPTION:Oklahoma Youth Federation will be next weekend in Midwest City. It will begin on Friday evening at the Voice of Hope church at 7:00 p.m. and will continue on Sabbath morning at the Douglas United Methodist Church at 208 S. Douglas Blvd.
URL:https://voiceofhopeokc.org/event/oklahoma-youth-federation/
LOCATION:Douglas United Methodist Church\, 208 S. Douglas Blvd\, Oklahoma City\, OK\, United States
END:VEVENT
BEGIN:VEVENT
DTSTART;TZID=UTC:20151014T190000
DTEND;TZID=UTC:20151014T200000
DTSTAMP:20260425T123023
CREATED:20151001T211128Z
LAST-MODIFIED:20151009T201549Z
UID:7757-1444849200-1444852800@voiceofhopeokc.org
SUMMARY:Community Bible Study
DESCRIPTION:Please join us every week for our Community Bible Study meeting.
URL:https://voiceofhopeokc.org/event/community-bible-study/
LOCATION:Voice of Hope SDA Church\, 3300 NE 23rd St.\, Oklahoma City\, OK\, 73121\, United States
CATEGORIES:Weekly Church Events
END:VEVENT
END:VCALENDAR